BEGIN:VCALENDAR
VERSION:2.0
PRODID:-//HbbTV - ECPv6.15.20//NONSGML v1.0//EN
CALSCALE:GREGORIAN
METHOD:PUBLISH
X-WR-CALNAME:HbbTV
X-ORIGINAL-URL:https://www.hbbtv.org
X-WR-CALDESC:Events for HbbTV
REFRESH-INTERVAL;VALUE=DURATION:PT1H
X-Robots-Tag:noindex
X-PUBLISHED-TTL:PT1H
BEGIN:VTIMEZONE
TZID:Europe/London
BEGIN:DAYLIGHT
TZOFFSETFROM:+0000
TZOFFSETTO:+0100
TZNAME:BST
DTSTART:20250330T010000
END:DAYLIGHT
BEGIN:STANDARD
TZOFFSETFROM:+0100
TZOFFSETTO:+0000
TZNAME:GMT
DTSTART:20251026T010000
END:STANDARD
BEGIN:DAYLIGHT
TZOFFSETFROM:+0000
TZOFFSETTO:+0100
TZNAME:BST
DTSTART:20260329T010000
END:DAYLIGHT
BEGIN:STANDARD
TZOFFSETFROM:+0100
TZOFFSETTO:+0000
TZNAME:GMT
DTSTART:20261025T010000
END:STANDARD
BEGIN:DAYLIGHT
TZOFFSETFROM:+0000
TZOFFSETTO:+0100
TZNAME:BST
DTSTART:20270328T010000
END:DAYLIGHT
BEGIN:STANDARD
TZOFFSETFROM:+0100
TZOFFSETTO:+0000
TZNAME:GMT
DTSTART:20271031T010000
END:STANDARD
END:VTIMEZONE
BEGIN:VEVENT
DTSTART;VALUE=DATE:20260223
DTEND;VALUE=DATE:20260228
DTSTAMP:20260420T231122
CREATED:20251128T102318Z
LAST-MODIFIED:20260205T224449Z
UID:17162-1771804800-1772236799@www.hbbtv.org
SUMMARY:DTG & DTVP Plugfest and HbbTV Testing Event 2026
DESCRIPTION:The Digital TV Group (DTG) and Deutsche TV-Plattform (DTVP) are delighted to announce their joint international Plugfest 2026\, and the HbbTV Testing Event in cooperation with the HbbTV Association. \nPlugfest provides a dynamic platform for companies to collaborate in a controlled environment\, testing and validating the interoperability of products\, software\, content\, and applications. This is an essential step toward delivering seamless integration and an outstanding user experience across devices and platforms. \nInteroperability tests will cover cutting-edge technologies including: \n\nUHD 4K/8K\, HDR\, and High Frame Rate (HFR)\nNext-Generation Audio (NGA)\nHbbTV\, DVB-I\, and HDMI compatibility\n\nWho Should Participate: \nPlugfest is open to all companies interested in validating interoperability with others’ implementations. Typical participants include: \n\nManufacturers: CE TVs\, STBs\, streaming sticks\, test equipment\, AVRs\, soundbars\, projectors\, monitors\nBroadcasters and platform operators\nTechnology providers and encoder manufacturers\nTest equipment companies\nResearch & development institutions\nStandardisation bodies\nHbbTV app\, HbbTV OpApp\, and DVB-I implementers\n\nWhy Attend: \nThis is a unique opportunity to collaborate with industry leaders\, identify potential interoperability challenges early\, and ensure your offerings meet the highest standards of performance and compatibility. \nEvent Dates: \n\nPlugfest 2026: Monday 23rd February – Wednesday 25th February 2026\nHbbTV Testing Event: Wednesday 25th February – Friday 27th February 2026\n\nLocation: \nDTG Office\, 5th Floor\, 89 Albert Embankment\, London SE1 7TP\, UK \nRegistration & Fees: \nDTG\, DTVP\, and HbbTV members £FOC \nNon-members: £750 \nNote: Attendance is strictly limited to active testing participants only \n\n\nRegister here\n\n\nIMPORTANT \nPlease complete the registration form using the button at the top of this page (and return the participation agreement you receive) no later than Friday\, February 6th 2026. \nAll shipped devices and testing equipment must be received at the address below no later than Friday 13th February 2026. \nAddress: FAO Martyn Traynor\, PLUGFEST\, DTG\, 5th Floor\, 89 Albert Embankment\, Vauxhall\, London\, SE1 7TP\, UK. \nFor all Plugfest queries\, contact Martyn Traynor: plugfest@dtg.org.uk +44 2078406503 \nFor all HbbTV Testing Event queries\, contact Nguyen thi Thanh Van\, Samsung Electronics: van.nguyen@samsung.com
URL:https://www.hbbtv.org/event/dtg-dtvp-plugfest-and-hbbtv-testing-event-2026/
LOCATION:DTG\, 5th Floor\, 89 Albert Embankment\, London\, SE1 7TP\, United Kingdom
CATEGORIES:Plugfest
ATTACH;FMTTYPE=image/png:https://www.hbbtv.org/wp-content/uploads/2025/11/Plugfest-Landscape-2.png
END:VEVENT
END:VCALENDAR