BEGIN:VCALENDAR
VERSION:2.0
PRODID:-//HbbTV - ECPv6.15.20//NONSGML v1.0//EN
CALSCALE:GREGORIAN
METHOD:PUBLISH
X-WR-CALNAME:HbbTV
X-ORIGINAL-URL:https://www.hbbtv.org
X-WR-CALDESC:Events for HbbTV
REFRESH-INTERVAL;VALUE=DURATION:PT1H
X-Robots-Tag:noindex
X-PUBLISHED-TTL:PT1H
BEGIN:VTIMEZONE
TZID:Europe/Berlin
BEGIN:DAYLIGHT
TZOFFSETFROM:+0100
TZOFFSETTO:+0200
TZNAME:CEST
DTSTART:20230326T010000
END:DAYLIGHT
BEGIN:STANDARD
TZOFFSETFROM:+0200
TZOFFSETTO:+0100
TZNAME:CET
DTSTART:20231029T010000
END:STANDARD
BEGIN:DAYLIGHT
TZOFFSETFROM:+0100
TZOFFSETTO:+0200
TZNAME:CEST
DTSTART:20240331T010000
END:DAYLIGHT
BEGIN:STANDARD
TZOFFSETFROM:+0200
TZOFFSETTO:+0100
TZNAME:CET
DTSTART:20241027T010000
END:STANDARD
BEGIN:DAYLIGHT
TZOFFSETFROM:+0100
TZOFFSETTO:+0200
TZNAME:CEST
DTSTART:20250330T010000
END:DAYLIGHT
BEGIN:STANDARD
TZOFFSETFROM:+0200
TZOFFSETTO:+0100
TZNAME:CET
DTSTART:20251026T010000
END:STANDARD
END:VTIMEZONE
BEGIN:VEVENT
DTSTART;TZID=Europe/Berlin:20241015T150000
DTEND;TZID=Europe/Berlin:20241015T154000
DTSTAMP:20260420T142303
CREATED:20241011T131000Z
LAST-MODIFIED:20241015T135950Z
UID:14864-1729004400-1729006800@www.hbbtv.org
SUMMARY:HbbTV Symposium and Awards Premiere Live
DESCRIPTION:The second preview event of the HbbTV Symposium and Awards 2024 provides an update on our annual key summit with exclusive insights on what will be shown and discussed in London. \nHbbTV Symposium Premiere takes place live on Tuesday\, 15 October 2024\, 15:00-15:40 CEST. \nAgenda \nWelcome\nJörn Krieger\, Moderator \nRound Table I\nNew HbbTV developments\, applications and solutions\, HbbTV Symposium 2024 preview\, future plans \nParticipants\nStefano Braghieri\, MFE/Mediaset\nRomualdo Federico\, Kineton\nFrode Hernes\, Xperi \nHbbTV Symposium Unconference Update\nThe future of HbbTV device conformance testing and potential role for reference apps\nThi Thanh Van Nguyen\, Chair\, HbbTV Testing Group\, HbbTV Association \nRound Table II \nParticipants\nJeff Hunter\, YouView\nNial Ferguson\, Sourcepoint\nBob Campbell\, Resillion\nSebastian Strootmann\, Serverside.AI \nHbbTV Symposium Update\nVincent Grivet\, Chair\, HbbTV Association \nClosing remarks\nJörn Krieger\, Moderator \nWatch the recording on YouTube at https://www.youtube.com/watch?v=wCR4n9jlYo4.
URL:https://www.hbbtv.org/event/hbbtv-symposium-and-awards-premiere-live/
CATEGORIES:HbbTV Symposium,Webinar
ATTACH;FMTTYPE=image/png:https://www.hbbtv.org/wp-content/uploads/2024/10/Banner-HbbTV-October-15th-2024-1.png
END:VEVENT
END:VCALENDAR