BEGIN:VCALENDAR
VERSION:2.0
PRODID:-//HbbTV - ECPv6.15.20//NONSGML v1.0//EN
CALSCALE:GREGORIAN
METHOD:PUBLISH
X-WR-CALNAME:HbbTV
X-ORIGINAL-URL:https://www.hbbtv.org
X-WR-CALDESC:Events for HbbTV
REFRESH-INTERVAL;VALUE=DURATION:PT1H
X-Robots-Tag:noindex
X-PUBLISHED-TTL:PT1H
BEGIN:VTIMEZONE
TZID:Europe/Berlin
BEGIN:DAYLIGHT
TZOFFSETFROM:+0100
TZOFFSETTO:+0200
TZNAME:CEST
DTSTART:20230326T010000
END:DAYLIGHT
BEGIN:STANDARD
TZOFFSETFROM:+0200
TZOFFSETTO:+0100
TZNAME:CET
DTSTART:20231029T010000
END:STANDARD
BEGIN:DAYLIGHT
TZOFFSETFROM:+0100
TZOFFSETTO:+0200
TZNAME:CEST
DTSTART:20240331T010000
END:DAYLIGHT
BEGIN:STANDARD
TZOFFSETFROM:+0200
TZOFFSETTO:+0100
TZNAME:CET
DTSTART:20241027T010000
END:STANDARD
BEGIN:DAYLIGHT
TZOFFSETFROM:+0100
TZOFFSETTO:+0200
TZNAME:CEST
DTSTART:20250330T010000
END:DAYLIGHT
BEGIN:STANDARD
TZOFFSETFROM:+0200
TZOFFSETTO:+0100
TZNAME:CET
DTSTART:20251026T010000
END:STANDARD
END:VTIMEZONE
BEGIN:VTIMEZONE
TZID:Europe/London
BEGIN:DAYLIGHT
TZOFFSETFROM:+0000
TZOFFSETTO:+0100
TZNAME:BST
DTSTART:20230326T010000
END:DAYLIGHT
BEGIN:STANDARD
TZOFFSETFROM:+0100
TZOFFSETTO:+0000
TZNAME:GMT
DTSTART:20231029T010000
END:STANDARD
BEGIN:DAYLIGHT
TZOFFSETFROM:+0000
TZOFFSETTO:+0100
TZNAME:BST
DTSTART:20240331T010000
END:DAYLIGHT
BEGIN:STANDARD
TZOFFSETFROM:+0100
TZOFFSETTO:+0000
TZNAME:GMT
DTSTART:20241027T010000
END:STANDARD
BEGIN:DAYLIGHT
TZOFFSETFROM:+0000
TZOFFSETTO:+0100
TZNAME:BST
DTSTART:20250330T010000
END:DAYLIGHT
BEGIN:STANDARD
TZOFFSETFROM:+0100
TZOFFSETTO:+0000
TZNAME:GMT
DTSTART:20251026T010000
END:STANDARD
END:VTIMEZONE
BEGIN:VEVENT
DTSTART;TZID=Europe/Berlin:20241107T150000
DTEND;TZID=Europe/Berlin:20241107T154000
DTSTAMP:20260420T123244
CREATED:20241106T143105Z
LAST-MODIFIED:20241107T144954Z
UID:15171-1730991600-1730994000@www.hbbtv.org
SUMMARY:HbbTV Symposium Demo Live
DESCRIPTION:The third preview webinar of the HbbTV Symposium and Awards 2024 provides an update on our annual key event with exclusive insights on what will be shown and discussed in London. \nHbbTV Symposium Demo Live takes place live on Thursday\, 7 November 2024\, 15:00-15:40 CET. \nAgenda \nWelcome\nJörn Krieger\, Moderator \nDemo Live\nLive presentation\, solution focus\, product explanation\, special announcement \nParticipants\nPaul Martin\, obs\nStanislas Leridon\, Dotscreen\nJan Frelek\, Backscreen\nOliver Botti\, Deltatre\nZivko Radonjic\, iWedia \nHbbTV Symposium 2024\nEoghan O’Sullivan\nUnconference Day and Opportunities \nClosing remarks\nJörn Krieger\, Moderator \nWatch the recording on YouTube at https://www.youtube.com/watch?v=g1GPenuND6E.
URL:https://www.hbbtv.org/event/hbbtv-symposium-demo-live/
LOCATION:Webinar
CATEGORIES:HbbTV Symposium,Preview,Webinar
ATTACH;FMTTYPE=image/jpeg:https://www.hbbtv.org/wp-content/uploads/2024/11/HbbTV-Symposium-Demo-Live-2024-korr.jpg
END:VEVENT
BEGIN:VEVENT
DTSTART;TZID=Europe/Berlin:20241112T150000
DTEND;TZID=Europe/Berlin:20241112T154000
DTSTAMP:20260420T123244
CREATED:20241111T151208Z
LAST-MODIFIED:20241112T154835Z
UID:15241-1731423600-1731426000@www.hbbtv.org
SUMMARY:HbbTV Symposium Demo Live II
DESCRIPTION:The final preview webinar of the HbbTV Symposium and Awards 2024 provides an update on our annual key event with exclusive insights on what will be shown and discussed in London. \nHbbTV Symposium Demo Live II takes place live on Tuesday\, 12 November\, 15:00-15:40 CET. \nAgenda \nWelcome\nJörn Krieger\, Moderator \nDemo Live\nLive presentation\, solution focus\, product explanation\, special announcement \nParticipants \nRick Cordeiro\, JW Player\nMoritz Wuttke\, Konodrac\nNial Ferguson\, Sourcepoint\nMathieu Ghariani\, Netgem\nFrode Hernes\, Xperi\nLeander Carell\, Serverside \nHbbTV Symposium 2024\nAngelo Pettazzi\, HbbTV\nMain Topics\, Unconference\, Attendees \nClosing remarks\nJörn Krieger\, Moderator \nWatch the recording on YouTube at https://www.youtube.com/watch?v=U3gpDFHS7_U.
URL:https://www.hbbtv.org/event/hbbtv-symposium-demo-live-ii/
LOCATION:Webinar
CATEGORIES:HbbTV Symposium,Preview,Webinar
END:VEVENT
BEGIN:VEVENT
DTSTART;VALUE=DATE:20241114
DTEND;VALUE=DATE:20241116
DTSTAMP:20260420T123244
CREATED:20240321T084505Z
LAST-MODIFIED:20240715T101713Z
UID:13630-1731542400-1731715199@www.hbbtv.org
SUMMARY:12th HbbTV Symposium and Awards 2024
DESCRIPTION:The 12th HbbTV Symposium and Awards will take place on 14th-15th November\, 2024 in London\, UK. The annual key summit of the connected TV industry\, targeting platform operators\, broadcasters\, advertisers and adtechs\, standards organisations and technology companies\, will be co-hosted with Everyone TV. The joint venture owned and supported by the UK’s leading public service broadcasters BBC\, ITV\, Channel 4 and Channel 5 operates the free-TV platforms Freeview and Freesat. \nThe HbbTV Symposium and Awards 2024 will take place at Church House\, a prestigious event and conference venue in the heart of Westminster\, central London. The historical building\, dating back to 1887\, will provide an excellent and inspiring location for delegates\, sponsors\, exhibitors and networking. \nTop-level executives of the international connected TV industry will provide exclusive\, first-hand insights into the latest industry developments\, discussing new services\, experiences and challenges with a focus on specifications\, interoperability\, standards regimes and regulation. Topics include new developments in the areas of Targeted Advertising\, DVB-I\, the HbbTV Operator Application and Application Discovery over Broadband Phase 2 (ADB2). \nFollowing the successful introduction of the new concept last year\, the HbbTV Symposium will again consist of a traditional conference with keynotes\, panels and roundtables on the first day\, followed by the glamourous HbbTV Awards ceremony in the evening. The second day will feature an unconference at which participants decide about the agenda\, topics and discussions\, actively shaping and driving the sessions and conclusions.
URL:https://www.hbbtv.org/event/12th-hbbtv-symposium-and-awards-2024/
LOCATION:Church House Westminster\, Church House Westminster\, Dean's Yard\, London\, SW1P 3NZ\, United Kingdom
CATEGORIES:Awards,HbbTV Symposium
ATTACH;FMTTYPE=image/jpeg:https://www.hbbtv.org/wp-content/uploads/2024/03/HbbTV-Symposium-and-Awards-2024-1000pixel.jpg
END:VEVENT
END:VCALENDAR