BEGIN:VCALENDAR
VERSION:2.0
PRODID:-//HbbTV - ECPv6.15.20//NONSGML v1.0//EN
CALSCALE:GREGORIAN
METHOD:PUBLISH
X-ORIGINAL-URL:https://www.hbbtv.org
X-WR-CALDESC:Events for HbbTV
REFRESH-INTERVAL;VALUE=DURATION:PT1H
X-Robots-Tag:noindex
X-PUBLISHED-TTL:PT1H
BEGIN:VTIMEZONE
TZID:America/Halifax
BEGIN:DAYLIGHT
TZOFFSETFROM:-0400
TZOFFSETTO:-0300
TZNAME:ADT
DTSTART:20210314T060000
END:DAYLIGHT
BEGIN:STANDARD
TZOFFSETFROM:-0300
TZOFFSETTO:-0400
TZNAME:AST
DTSTART:20211107T050000
END:STANDARD
BEGIN:DAYLIGHT
TZOFFSETFROM:-0400
TZOFFSETTO:-0300
TZNAME:ADT
DTSTART:20220313T060000
END:DAYLIGHT
BEGIN:STANDARD
TZOFFSETFROM:-0300
TZOFFSETTO:-0400
TZNAME:AST
DTSTART:20221106T050000
END:STANDARD
BEGIN:DAYLIGHT
TZOFFSETFROM:-0400
TZOFFSETTO:-0300
TZNAME:ADT
DTSTART:20230312T060000
END:DAYLIGHT
BEGIN:STANDARD
TZOFFSETFROM:-0300
TZOFFSETTO:-0400
TZNAME:AST
DTSTART:20231105T050000
END:STANDARD
END:VTIMEZONE
BEGIN:VEVENT
DTSTART;TZID=America/Halifax:20221212T150000
DTEND;TZID=America/Halifax:20221212T160000
DTSTAMP:20260424T120142
CREATED:20221206T153744Z
LAST-MODIFIED:20221215T113211Z
UID:11490-1670857200-1670860800@www.hbbtv.org
SUMMARY:HbbTV and Gaming
DESCRIPTION:Gaming applications have become increasingly popular with the rising market penetration of smart TVs and connected CE devices. In this webinar\, we will focus on the opportunities the HbbTV specifications offer to industry players in the growing area of cloud gaming\, discussing market figures\, use cases\, monetisation and future trends. \nPresenters\nGeorge Jijiashvili\, Principal Analyst\, Games\, Omdia\nAniello Saulino\, Head of Development\, Media Applications\, Kineton\nTimuçin Bilgör\, President\, BUBA Ventures/Digitiwise \nModerator\nJörn Krieger\, Freelance Journalist \nSpeakers’ bios\nGeorge Jijiashvili is a principal analyst at Omdia\, leading research into games and AR/VR technologies. Based in London\, he produces insight into the games sector through regular reports\, market sizing and forecasting. His specialisms include the video game market\, cloud gaming\, subscription services\, and wearable technology. He is a regular speaker at major technology exhibitions and is a respected industry commentator\, regularly quoted in mainstream publications. \nPassionate about technology\, Aniello Saulino joined Kineton at the company’s foundation. He started his journey creating Kineton’s HbbTV development framework and now leads the media applications division as head of development. Nello follows the entire development process\, from the collection of requirements through to maintenance. He is in charge of various media projects\, being always in close contact with the customer in the pursuit of continuous improvement. \nTimuçin Bilgör is the founder and president of BUBA Ventures\, based in İstanbul. Boğaziçi University Business Angles Ventures (BUBA) is Turkey’s first university-based angel investment network\, specialising in technology\, medicine and agriculture. Digitiwise is one of BUBA Ventures’ investment companies\, based in Finland\, which focuses on addressable TV advertisement technology. Timuçin is also a university lecturer at Boğaziçi University. \nReplay\nThe recording of the live session is available here. \nPDF presentation downloads\nGeorge Jijiashvili\, Omdia\nAniello Saulino\, Kineton\nTimuçin Bilgör\, BUBA Ventures/Digitiwise
URL:https://www.hbbtv.org/event/hbbtv-and-gaming/
CATEGORIES:Webinar
END:VEVENT
END:VCALENDAR