BEGIN:VCALENDAR
VERSION:2.0
PRODID:-//HbbTV - ECPv6.15.20//NONSGML v1.0//EN
CALSCALE:GREGORIAN
METHOD:PUBLISH
X-WR-CALNAME:HbbTV
X-ORIGINAL-URL:https://www.hbbtv.org
X-WR-CALDESC:Events for HbbTV
REFRESH-INTERVAL;VALUE=DURATION:PT1H
X-Robots-Tag:noindex
X-PUBLISHED-TTL:PT1H
BEGIN:VTIMEZONE
TZID:Europe/Berlin
BEGIN:DAYLIGHT
TZOFFSETFROM:+0100
TZOFFSETTO:+0200
TZNAME:CEST
DTSTART:20220327T010000
END:DAYLIGHT
BEGIN:STANDARD
TZOFFSETFROM:+0200
TZOFFSETTO:+0100
TZNAME:CET
DTSTART:20221030T010000
END:STANDARD
BEGIN:DAYLIGHT
TZOFFSETFROM:+0100
TZOFFSETTO:+0200
TZNAME:CEST
DTSTART:20230326T010000
END:DAYLIGHT
BEGIN:STANDARD
TZOFFSETFROM:+0200
TZOFFSETTO:+0100
TZNAME:CET
DTSTART:20231029T010000
END:STANDARD
BEGIN:DAYLIGHT
TZOFFSETFROM:+0100
TZOFFSETTO:+0200
TZNAME:CEST
DTSTART:20240331T010000
END:DAYLIGHT
BEGIN:STANDARD
TZOFFSETFROM:+0200
TZOFFSETTO:+0100
TZNAME:CET
DTSTART:20241027T010000
END:STANDARD
END:VTIMEZONE
BEGIN:VEVENT
DTSTART;TZID=Europe/Berlin:20230727T150000
DTEND;TZID=Europe/Berlin:20230727T160000
DTSTAMP:20260423T135217
CREATED:20230821T142240Z
LAST-MODIFIED:20231219T215541Z
UID:12076-1690470000-1690473600@www.hbbtv.org
SUMMARY:Webinar: HbbTV in DVB-I environments
DESCRIPTION:The webinar provides an update on the DVB-I projects and activities in Germany\, Italy and Ireland\, experiences\, challenges\, conclusions and next steps\, with a focus on the role of HbbTV. The 60-minute live session includes a Q&A with the audience following the presentations. \nSpeakers / Agenda \nRemo Vogel\, rbb / ARD Germany\, Business Development and Distribution Strategy\n– Status of German DVB-I Pilot\n– Role and usage of HbbTV within the pilot\n– Implementing features client-side native vs. HbbTV \nStefano Braghieri\, RTI-Mediaset Italy\, Innovation/Technical Research Department\n– Is DVB-I missing something – is DVB-I perfect?\n– Why HbbTV …and why not?\n– HbbTV in DVB-I: now & next\n– The role of the standards \nJim Higgins\, RTÉ Ireland\, Business Development Manager DTT platform Saorview\n– Saorview product development – open standards and a route to market\n– Context – evolving audience behaviours\n– DVB-I as a basis for a next-generation product\n– HbbTV – adding value in a hybrid future \nModerator\nJörn Krieger\, Freelance Journalist \nSpeakers’ bios \nRemo Vogel is responsible for the strategic development of distribution technology at Rundfunk Berlin-Brandenburg (rbb) / ARD. His focus is on hybrid systems for programme publication. He is co-chairing the EBU TV Platforms group. \nStefano Braghieri has around 30 years of experience in broadcast/broadband technologies in various capacities\, from code writing to standard definition. Involved in DVB and HbbTV Association standards definition\, and in HD-Forum-Italia Working Group. He has been working for Mediaset since 2011\, involved in technical and commercial support for new technologies and product innovation. \nJim Higgins has worked in RTÉ since 2013\, as Business Development Manager for Ireland’s DTT platform Saorview. Experienced in DTT platform stakeholder management\, consumer electronics technology and marketing. Achievements include manufacturer technical group lead as part of Irish DTT pilot stakeholder group\, Saorview Connect product launch and 700MHz migration campaign. \nReplay\nThe recording of the live session is available here. \nPDF presentation downloads\nRemo Vogel\, rbb/ARD\nStefano Braghieri\, RTI-Mediaset\nJim Higgins\, RTÉ/Saorview
URL:https://www.hbbtv.org/event/webinar-hbbtv-in-dvb-i-environments/
CATEGORIES:Webinar
ATTACH;FMTTYPE=image/jpeg:https://www.hbbtv.org/wp-content/uploads/2023/08/Screenshot-e1690472879627.jpg
END:VEVENT
END:VCALENDAR