BEGIN:VCALENDAR
VERSION:2.0
PRODID:-//HbbTV - ECPv6.15.20//NONSGML v1.0//EN
CALSCALE:GREGORIAN
METHOD:PUBLISH
X-WR-CALNAME:HbbTV
X-ORIGINAL-URL:https://www.hbbtv.org
X-WR-CALDESC:Events for HbbTV
REFRESH-INTERVAL;VALUE=DURATION:PT1H
X-Robots-Tag:noindex
X-PUBLISHED-TTL:PT1H
BEGIN:VTIMEZONE
TZID:Europe/Berlin
BEGIN:DAYLIGHT
TZOFFSETFROM:+0100
TZOFFSETTO:+0200
TZNAME:CEST
DTSTART:20240331T010000
END:DAYLIGHT
BEGIN:STANDARD
TZOFFSETFROM:+0200
TZOFFSETTO:+0100
TZNAME:CET
DTSTART:20241027T010000
END:STANDARD
BEGIN:DAYLIGHT
TZOFFSETFROM:+0100
TZOFFSETTO:+0200
TZNAME:CEST
DTSTART:20250330T010000
END:DAYLIGHT
BEGIN:STANDARD
TZOFFSETFROM:+0200
TZOFFSETTO:+0100
TZNAME:CET
DTSTART:20251026T010000
END:STANDARD
BEGIN:DAYLIGHT
TZOFFSETFROM:+0100
TZOFFSETTO:+0200
TZNAME:CEST
DTSTART:20260329T010000
END:DAYLIGHT
BEGIN:STANDARD
TZOFFSETFROM:+0200
TZOFFSETTO:+0100
TZNAME:CET
DTSTART:20261025T010000
END:STANDARD
END:VTIMEZONE
BEGIN:VEVENT
DTSTART;TZID=Europe/Berlin:20250514T100000
DTEND;TZID=Europe/Berlin:20250514T110000
DTSTAMP:20260420T210116
CREATED:20250407T070210Z
LAST-MODIFIED:20250514T103016Z
UID:15783-1747216800-1747220400@www.hbbtv.org
SUMMARY:Webinar: Sustainability in streaming – How to reduce the carbon footprint
DESCRIPTION:The rising demand for video streaming is driving significant energy consumption and carbon emissions. As the industry seeks sustainable solutions\, standards and technologies play a crucial role in reducing environmental impact without compromising quality and user experience. \nThis webinar will explore how industry standards such as HbbTV\, DVB-I\, and DASH contribute to sustainability in streaming. Experts will present the latest research findings\, discuss best practices\, and share real-world experiences in reducing the carbon footprint of video delivery. We will also highlight the importance of consumer awareness and education in fostering sustainable viewing habits and look ahead to future developments in eco-friendly streaming. \nJoin us for an engaging discussion with industry leaders on the path toward a more sustainable streaming ecosystem.\n\nAgenda \n\nThe Role of Standards and Specifications – How HbbTV\, DVB-I\, and DASH contribute to energy-efficient streaming\nNew Research and Studies – Insights into the environmental impact of streaming and potential solutions\nExperiences and Best Use Cases – Practical approaches from industry leaders in reducing carbon emissions\nConsumer Awareness and Education – Encouraging sustainable viewing behaviours\nFuture Developments – Emerging trends and innovations for a greener streaming industry\n\nSpeakers \n\nBen Schwarz – President\, Greening of Streaming\nHemini Mehta – Senior Sustainability Lead\, EBU\n\nVincent Grivet – HbbTV Chair & LoCaT Project\nRobert Seeliger – Senior Project Manager Future Applications and Media & DAI Lead\, Fraunhofer FOKUS\nPeter Pogrzeba – Senior Project Manager\, Deutsche Telekom Laboratories\nJörn Krieger – Moderator\n\nWho should attend? \nThis webinar is designed for broadcasters\, streaming service providers\, technology vendors\, policymakers\, and sustainability advocates looking to understand and implement environmentally friendly streaming practices. \nReplay\nThe recording of the live session is available here. \nPDF presentation downloads\nBen Schwarz (Greening of Streaming)\nHemini Mehta (EBU)\nVincent Grivet (HbbTV & LoCaT Project)\nRobert Seeliger (Fraunhofer FOKUS)\nPeter Pogrzeba (Deutsche Telekom Laboratories)
URL:https://www.hbbtv.org/event/webinar-sustainability-in-streaming-how-to-reduce-the-carbon-footprint/
LOCATION:Webinar
CATEGORIES:Webinar
ATTACH;FMTTYPE=image/jpeg:https://www.hbbtv.org/wp-content/uploads/2025/04/Screenshot_Sustainability_Webinar.jpg
END:VEVENT
END:VCALENDAR