BEGIN:VCALENDAR
VERSION:2.0
PRODID:-//HbbTV - ECPv6.15.20//NONSGML v1.0//EN
CALSCALE:GREGORIAN
METHOD:PUBLISH
X-ORIGINAL-URL:https://www.hbbtv.org
X-WR-CALDESC:Events for HbbTV
REFRESH-INTERVAL;VALUE=DURATION:PT1H
X-Robots-Tag:noindex
X-PUBLISHED-TTL:PT1H
BEGIN:VTIMEZONE
TZID:Europe/Berlin
BEGIN:DAYLIGHT
TZOFFSETFROM:+0100
TZOFFSETTO:+0200
TZNAME:CEST
DTSTART:20220327T010000
END:DAYLIGHT
BEGIN:STANDARD
TZOFFSETFROM:+0200
TZOFFSETTO:+0100
TZNAME:CET
DTSTART:20221030T010000
END:STANDARD
BEGIN:DAYLIGHT
TZOFFSETFROM:+0100
TZOFFSETTO:+0200
TZNAME:CEST
DTSTART:20230326T010000
END:DAYLIGHT
BEGIN:STANDARD
TZOFFSETFROM:+0200
TZOFFSETTO:+0100
TZNAME:CET
DTSTART:20231029T010000
END:STANDARD
BEGIN:DAYLIGHT
TZOFFSETFROM:+0100
TZOFFSETTO:+0200
TZNAME:CEST
DTSTART:20240331T010000
END:DAYLIGHT
BEGIN:STANDARD
TZOFFSETFROM:+0200
TZOFFSETTO:+0100
TZNAME:CET
DTSTART:20241027T010000
END:STANDARD
END:VTIMEZONE
BEGIN:VEVENT
DTSTART;TZID=Europe/Berlin:20230306T150000
DTEND;TZID=Europe/Berlin:20230306T160000
DTSTAMP:20260424T045811
CREATED:20230213T034459Z
LAST-MODIFIED:20230307T043811Z
UID:11562-1678114800-1678118400@www.hbbtv.org
SUMMARY:Webinar: The WAVE Test Environment for HbbTV and ATSC
DESCRIPTION:The webinar focuses on the WAVE test environment for HbbTV and ATSC and includes an introduction to the WAVE project\, details on the relevance to HbbTV and examples of WMAS testing\, DPCTF & observation framework device testing and the implementation in the context of HbbTV testing. \nAgenda \nIntroduction\nBob Campbell\, Director of Engineering\, Resillion\, Chair\, Improving Interoperability Task Force\, HbbTV Association \nThe relevance to HbbTV\nJon Piesing\, Director Standardisation\, TP Vision\, Vice-Chair\, HbbTV Association \nWMAS testing\nLouay Bassbouss\, Scientist and Senior Project Manager R&D\, Fraunhofer FOKUS \nDPCTF & Observation Framework device testing\nYan Jiang\, Senior Software Engineer\, Resillion \nImplementation in the context of HbbTV testing\nYan Jiang & Bob Campbell\, Resillion \nQ&A \nModerator\nJörn Krieger\, Freelance Journalist \nSpeakers’ bios\n\nDr Bob Campbell is Director of Engineering at Resillion (formerly Eurofins Digital Testing). He is responsible for the delivery of products including its CI+ Test Tool\, Ligada HbbTV test harness and HbbTV Test Suites used around the world. Bob also represents the company in standards bodies\, in the HbbTV Association Steering Group\, CTA WAVE\, ATSC and other organisations. \nJon Piesing is the Vice-Chair of the HbbTV Association. He is also Chair of the Technical Module of the DVB Project and the Steering Committee of the CTA WAVE project. Jon\, who has been a leading figure in the development of specifications for integration of TV and interactivity for more than 10 years\, is Director\, Standardisation for TP Vision\, the manufacturer of Philips TV sets. \nDr Louay Bassbouss is Scientist and Senior Project Manager R&D at Fraunhofer FOKUS. He works on Future Web Applications\, Multiscreen Technologies & Standards\, and 5G Media Streaming. Louay actively participates in various standardisation groups in W3C\, HbbTV and CTA. He is the co-chair of the W3C Second Screen Working and Community Groups. \nYan Jiang is Senior Engineer at Resillion. Her involvements include the DPCTF WAVE project\, Device Observation Framework\, audio test content for the WAVE Device Playback test suite and the WMAS API test subset for purposes including ATSC3.0/HbbTV usage. Yan is also involved in HbbTV testing such as providing the HbbTV Automation tool\, TAR report and test cases. \nReplay\nThe recording of the live session is available here. \nPDF presentation downloads\nJon Piesing\, TP Vision\, HbbTV Association\nDr Louay Bassbouss\, Fraunhofer FOKUS\nYan Jiang\, Resillion
URL:https://www.hbbtv.org/event/webinar-the-wave-test-environment-for-hbbtv-and-atsc/
CATEGORIES:Webinar
ATTACH;FMTTYPE=image/jpeg:https://www.hbbtv.org/wp-content/uploads/2023/02/Screenshot.jpg
END:VEVENT
END:VCALENDAR