BEGIN:VCALENDAR
VERSION:2.0
PRODID:-//HbbTV - ECPv6.15.20//NONSGML v1.0//EN
CALSCALE:GREGORIAN
METHOD:PUBLISH
X-ORIGINAL-URL:https://www.hbbtv.org
X-WR-CALDESC:Events for HbbTV
REFRESH-INTERVAL;VALUE=DURATION:PT1H
X-Robots-Tag:noindex
X-PUBLISHED-TTL:PT1H
BEGIN:VTIMEZONE
TZID:Europe/Berlin
BEGIN:DAYLIGHT
TZOFFSETFROM:+0100
TZOFFSETTO:+0200
TZNAME:CEST
DTSTART:20230326T010000
END:DAYLIGHT
BEGIN:STANDARD
TZOFFSETFROM:+0200
TZOFFSETTO:+0100
TZNAME:CET
DTSTART:20231029T010000
END:STANDARD
BEGIN:DAYLIGHT
TZOFFSETFROM:+0100
TZOFFSETTO:+0200
TZNAME:CEST
DTSTART:20240331T010000
END:DAYLIGHT
BEGIN:STANDARD
TZOFFSETFROM:+0200
TZOFFSETTO:+0100
TZNAME:CET
DTSTART:20241027T010000
END:STANDARD
BEGIN:DAYLIGHT
TZOFFSETFROM:+0100
TZOFFSETTO:+0200
TZNAME:CEST
DTSTART:20250330T010000
END:DAYLIGHT
BEGIN:STANDARD
TZOFFSETFROM:+0200
TZOFFSETTO:+0100
TZNAME:CET
DTSTART:20251026T010000
END:STANDARD
END:VTIMEZONE
BEGIN:VEVENT
DTSTART;TZID=Europe/Berlin:20240215T150000
DTEND;TZID=Europe/Berlin:20240215T160000
DTSTAMP:20260423T002917
CREATED:20231219T215651Z
LAST-MODIFIED:20240216T171046Z
UID:13438-1708009200-1708012800@www.hbbtv.org
SUMMARY:Webinar: The HbbTV OpApp specification update
DESCRIPTION:The webinar focuses on the HbbTV Operator Application specification with details on the recent specification update and its implementation at Everyone TV (BBC/ITV/Channel 4/Channel 5). The UK TV platform is using the updated specification for its Freely OpApp\, launching in 2024. The 60-minute live session includes a Q&A with the audience following the presentations. \nSpeakers\nArne Redl\, Senior Systems Engineer\, HD+/SES\nChris Poole\, Lead Research Engineer\, BBC R&D\nJames Jackson\, Director of Technical Strategy\, Everyone TV\nJeff Hunter\, Chief Architect\, YouView\nAlexis Ashley\, Principal Engineer\, Media Delivery\, YouView \nModerator\nJörn Krieger\, Freelance Journalist \nSpeakers’ bios\nArne Redl is a Senior Engineer and has been with SES/HD+ for more than 10 years. He has worked on various HbbTV projects and\, since 2019\, on the specification\, launch and development of the HD+ Operator Application on various platforms. \nChris Poole leads a media streaming and connected TV research team at BBC R&D. He represents the BBC in several HbbTV groups and has been one of the main contributors to the new HbbTV Operator Application specification. \nJames Jackson is the Director of Technical Strategy at Everyone TV where he is responsible for the technical architecture supporting the Freeview and Freesat television platforms. His work has included leading the technical development and operation of the Freeview Play service since 2016 to build the world’s largest HbbTV platform and his current role in ensuring the technical design and delivery of the UK’s new Freely TV service. \nJeff Hunter is the Chief Architect at YouView TV Limited\, having helped to set up the business in 2010. Prior to that Jeff spent 20+ years at the BBC helping to launch Freeview\, Freesat and iPlayer; contributing to standardisation for digital broadcasting within DVB\, UK DTG and ISO/MPEG; and building lots of fun stuff from outside broadcast equipment to radio frequency planning software. \nReplay\nThe recording of the live session is available here. \nPDF presentation downloads\nArne Redl\, SES/HD+\nChris Poole\, BBC R&D\nJames Jackson\, Everyone TV\nJeff Hunter & Alexis Ashley\, YouView
URL:https://www.hbbtv.org/event/webinar-the-hbbtv-opapp-specification-update/
CATEGORIES:Webinar
ATTACH;FMTTYPE=image/jpeg:https://www.hbbtv.org/wp-content/uploads/2023/12/Screenshot.jpg
END:VEVENT
END:VCALENDAR