BEGIN:VCALENDAR
VERSION:2.0
PRODID:-//HbbTV - ECPv6.15.20//NONSGML v1.0//EN
CALSCALE:GREGORIAN
METHOD:PUBLISH
X-WR-CALNAME:HbbTV
X-ORIGINAL-URL:https://www.hbbtv.org
X-WR-CALDESC:Events for HbbTV
REFRESH-INTERVAL;VALUE=DURATION:PT1H
X-Robots-Tag:noindex
X-PUBLISHED-TTL:PT1H
BEGIN:VTIMEZONE
TZID:Europe/Berlin
BEGIN:DAYLIGHT
TZOFFSETFROM:+0100
TZOFFSETTO:+0200
TZNAME:CEST
DTSTART:20240331T010000
END:DAYLIGHT
BEGIN:STANDARD
TZOFFSETFROM:+0200
TZOFFSETTO:+0100
TZNAME:CET
DTSTART:20241027T010000
END:STANDARD
BEGIN:DAYLIGHT
TZOFFSETFROM:+0100
TZOFFSETTO:+0200
TZNAME:CEST
DTSTART:20250330T010000
END:DAYLIGHT
BEGIN:STANDARD
TZOFFSETFROM:+0200
TZOFFSETTO:+0100
TZNAME:CET
DTSTART:20251026T010000
END:STANDARD
BEGIN:DAYLIGHT
TZOFFSETFROM:+0100
TZOFFSETTO:+0200
TZNAME:CEST
DTSTART:20260329T010000
END:DAYLIGHT
BEGIN:STANDARD
TZOFFSETFROM:+0200
TZOFFSETTO:+0100
TZNAME:CET
DTSTART:20261025T010000
END:STANDARD
END:VTIMEZONE
BEGIN:VEVENT
DTSTART;TZID=Europe/Berlin:20250701T100000
DTEND;TZID=Europe/Berlin:20250701T110000
DTSTAMP:20260420T185629
CREATED:20250616T204753Z
LAST-MODIFIED:20250702T162407Z
UID:15918-1751364000-1751367600@www.hbbtv.org
SUMMARY:Webinar: Reference Test Applications explained
DESCRIPTION:Ensuring long term compatibility of streaming services on an ever-evolving set of streaming devices is a key problem for the industry. Huge amounts of time and money are spent each year ensuring the availability of services for viewers and ensuring support and maintenance costs remain manageable.  \nThis webinar will review some of the most recent approaches taken by platform operators\, test services providers and media services companies to create reference test applications and test tools which build on top of HbbTV\, DASH and PlayReady. We will look at four approaches recently deployed and discuss the benefits of test tooling and test applications to allow the industry to confidently launch services that will be enjoyed by customers for years to come!  \nJoin us for an engaging discussion with industry leaders on the cutting-edge approach to ensuring interoperability. \nAgenda  \n\nBuilding test suites and reference apps – Resillion summarise the approaches taken\, benefits and improvements available from adding reference applications to our armoury of testing tools.\nReference Player and TACO – Everyone TV detail the use cases for IP video streaming validation and a Reference HbbTV Operator Application in the approval process for Freely devices. \nInteroperability with remote devices – Suitest feedback on the approach and findings from a testing event where remote test devices were made available in Shenzhen. \n\nSpeakers \n\nBob Campbell – Global Head of Conformance and Interoperability\, Resillion\nMark Riley – Senior Architect\, Everyone TV\n\nAlex Russell – Controller of Technical Partnerships\, Everyone TV\nMirko Nedeljkovic – CEO\, Suitest \nJörn Krieger – Moderator \n\nWho should attend?  \nThis webinar is designed for platform operators\, streaming service providers\, test suite designers\, device manufacturers and streaming video application designers looking to understand how to demonstrate support for applications and services across the horizontal market of streaming devices.  \nReplay \nThe recording of the live session is available here. \nPDF presentation downloads \nBob Campbell (Resillion)\nMark Riley & Alex Russell (Everyone TV)\nMirko Nedeljkovic (Suitest)
URL:https://www.hbbtv.org/event/webinar-reference-test-applications-explained/
LOCATION:Webinar
CATEGORIES:Webinar
ATTACH;FMTTYPE=image/jpeg:https://www.hbbtv.org/wp-content/uploads/2025/06/Screenshot.jpg
END:VEVENT
END:VCALENDAR