BEGIN:VCALENDAR
VERSION:2.0
PRODID:-//HbbTV - ECPv6.15.20//NONSGML v1.0//EN
CALSCALE:GREGORIAN
METHOD:PUBLISH
X-WR-CALNAME:HbbTV
X-ORIGINAL-URL:https://www.hbbtv.org
X-WR-CALDESC:Events for HbbTV
REFRESH-INTERVAL;VALUE=DURATION:PT1H
X-Robots-Tag:noindex
X-PUBLISHED-TTL:PT1H
BEGIN:VTIMEZONE
TZID:Europe/Berlin
BEGIN:DAYLIGHT
TZOFFSETFROM:+0100
TZOFFSETTO:+0200
TZNAME:CEST
DTSTART:20240331T010000
END:DAYLIGHT
BEGIN:STANDARD
TZOFFSETFROM:+0200
TZOFFSETTO:+0100
TZNAME:CET
DTSTART:20241027T010000
END:STANDARD
BEGIN:DAYLIGHT
TZOFFSETFROM:+0100
TZOFFSETTO:+0200
TZNAME:CEST
DTSTART:20250330T010000
END:DAYLIGHT
BEGIN:STANDARD
TZOFFSETFROM:+0200
TZOFFSETTO:+0100
TZNAME:CET
DTSTART:20251026T010000
END:STANDARD
BEGIN:DAYLIGHT
TZOFFSETFROM:+0100
TZOFFSETTO:+0200
TZNAME:CEST
DTSTART:20260329T010000
END:DAYLIGHT
BEGIN:STANDARD
TZOFFSETFROM:+0200
TZOFFSETTO:+0100
TZNAME:CET
DTSTART:20261025T010000
END:STANDARD
BEGIN:DAYLIGHT
TZOFFSETFROM:+0100
TZOFFSETTO:+0200
TZNAME:CEST
DTSTART:20270328T010000
END:DAYLIGHT
BEGIN:STANDARD
TZOFFSETFROM:+0200
TZOFFSETTO:+0100
TZNAME:CET
DTSTART:20271031T010000
END:STANDARD
END:VTIMEZONE
BEGIN:VEVENT
DTSTART;TZID=Europe/Berlin:20251029T150000
DTEND;TZID=Europe/Berlin:20251029T160000
DTSTAMP:20260423T003353
CREATED:20251016T124227Z
LAST-MODIFIED:20251105T134041Z
UID:16684-1761750000-1761753600@www.hbbtv.org
SUMMARY:Webinar: Inside HbbTV DRM: Standards\, Market Insights and Real-World Deployments
DESCRIPTION:Digital Rights Management (DRM) is a key component in delivering premium content securely across connected TV environments. With the growing deployment of HbbTV services and hybrid applications\, broadcasters\, platform operators and device manufacturers are increasingly focusing on standardised DRM solutions to ensure interoperability\, reliability and a seamless viewer experience. \nThis HbbTV webinar offers an overview of the technical foundations and current status of DRM within the HbbTV ecosystem. Industry experts will share insights into guidelines\, deployment practices and real-world use cases\, providing valuable perspectives for broadcasters\, manufacturers and technology providers. \nAgenda \nHbbTV DRM Guidelines and Standardisation\nSpeaker: Jon Piesing\, Vice-Chairman\, HbbTV Association & Chairman\, HbbTV Specification Group\nJon outlines the latest HbbTV DRM guidelines\, explaining how standardised approaches ensure compatibility across devices and services\, and highlight upcoming developments. \nDRM from the Conditional Access and Security Provider Perspective\nSpeaker: Thierry Thévoz\, Principal Software Architect\, Nagravision\nThierry presents the viewpoint of a leading CA and security solutions provider\, exploring DRM-CA integration\, deployment challenges and the need for robust content protection in hybrid TV environments. \nThe Italian Perspective: Implementing DRM in Broadcaster Environments\nSpeaker: Fabio Guarnaccia\, Competitive Scenario Analysis Manager – Strategic Marketing\, Mediaset\nFabio shares insights from the Italian market\, where broadcasters are introducing DRM to protect and monetise premium content\, with lessons from real-world implementation. \nMarket Reality: Insights from the DASH-DRM Reference Application\nSpeaker: Juha Joki\, Technical Director\, Sofia Digital\nJuha presents findings from the DASH-DRM Reference Application\, offering practical observations on DRM performance in real deployments and market readiness. \nQ&A session with all speakers \nModerator: Jörn Krieger\, Journalist \nReplay\nThe recording of the live session is available here. \nPDF presentation downloads\nJon Piesing (HbbTV Association)\nThierry Thévoz (Nagravision)\nFabio Guarnaccia (Mediaset)\nJuha Joki (Sofia Digital)
URL:https://www.hbbtv.org/event/inside-hbbtv-drm-standards-market-insights-and-real-world-deployments/
CATEGORIES:Webinar
ATTACH;FMTTYPE=image/jpeg:https://www.hbbtv.org/wp-content/uploads/2025/10/Screenshot-1.jpg
END:VEVENT
BEGIN:VEVENT
DTSTART;TZID=Europe/Berlin:20251106T120000
DTEND;TZID=Europe/Berlin:20251106T123000
DTSTAMP:20260423T003353
CREATED:20251105T142730Z
LAST-MODIFIED:20251106T114750Z
UID:16871-1762430400-1762432200@www.hbbtv.org
SUMMARY:HbbTV Symposium Demo Live
DESCRIPTION:The second preview show of the HbbTV Symposium and Awards 2025 offers a first look at the innovations\, insights and debates waiting for you at our annual key event on 12-13 November in Istanbul. HbbTV Symposium Demo Live takes place on Thursday\,  6 November\, 12.00-12.30 CET. \nAgenda \nWelcome introduction\nJörn Krieger\, Moderator \nHbbTV Symposium 2025\nVincent Grivet\, HbbTV Association Chairman \nDemo Live\nLive presentation\, solution focus\, product explanation\, special announcement \nMoritz Wuttke\, Konodrac\nAylen Alonso\, TVekstra\nJeff Hunter\, YouView TV\n\nHbbTV Symposium 2025\nUnconference Day and opportunities\nEoghan O’Sullivan\, HbbTV Symposium Moderator \nClosing remarks\nJörn Krieger and speakers \nReplay\nWatch the recording on YouTube at https://www.youtube.com/watch?v=_8SPlT8csnA.
URL:https://www.hbbtv.org/event/hbbtv-symposium-demo-live-2/
CATEGORIES:Webinar
ATTACH;FMTTYPE=image/png:https://www.hbbtv.org/wp-content/uploads/2025/11/HbbTV-November-6th-2025.png
END:VEVENT
BEGIN:VEVENT
DTSTART;TZID=Europe/Berlin:20260313T120000
DTEND;TZID=Europe/Berlin:20260313T130000
DTSTAMP:20260423T003353
CREATED:20260216T110839Z
LAST-MODIFIED:20260313T163714Z
UID:17252-1773403200-1773406800@www.hbbtv.org
SUMMARY:Webinar: Audience Measurement and Analytics with HbbTV
DESCRIPTION:Audience measurement and analysis via HbbTV is gaining momentum as broadcasters\, advertisers and measurement bodies seek more accurate\, precise and real-time insights across linear TV and streaming. Our upcoming webinar explores how HbbTV data is helping to transform established ratings systems and unlock deeper audience intelligence. \nThe live session on Friday\, 13 March 2026\, 12:00-13:00 CET examines how HbbTV complements traditional panel-based measurement\, reduces zero ratings for smaller and regional broadcasters\, and enables live\, granular viewership tracking beyond conventional approaches. \nDrawing on practical deployments in Spain\, Austria and the United Kingdom\, leading experts will discuss: \n\nIntegration of HbbTV data into national measurement frameworks\nUse of large-scale ad exposure and outcome measurement data\nCross-market analytics and satellite-based deployments\nMethodological and operational challenges\nThe future role of HbbTV in hybrid TV and streaming measurement\n\nThe session will conclude with a live Q&A. \nSpeakers \n\nMoritz Wuttke\, Vice-Chairman and Board Member\, Konodrac\nStuart Wilkinson\, Managing Director\, Business Development\, Fifty5Blue (formerly Kantar Media)\nHossein Houssaini\, Senior Strategic Advisor\, Virtual Minds\nSameer Modha\, Measurement Innovation Lead\, ITV\nBruno Goin\, Video Services Architect and Project Manager\, Eutelsat\nJörn Krieger\, Moderator\n\nReplay\nThe recording of the live session is available here. \nPDF presentation downloads\nMoritz Wuttke (Konodrac) & Stuart Wilkinson (Fifty5Blue)\nHossein Houssaini (Virtual Minds)\nSameer Modha (ITV)\nBruno Goin (Eutelsat)
URL:https://www.hbbtv.org/event/webinar-audience-measurement-and-analytics-with-hbbtv/
CATEGORIES:Webinar
ATTACH;FMTTYPE=image/jpeg:https://www.hbbtv.org/wp-content/uploads/2026/02/Screenshot.jpg
END:VEVENT
BEGIN:VEVENT
DTSTART;TZID=Europe/Berlin:20260508T120000
DTEND;TZID=Europe/Berlin:20260508T130000
DTSTAMP:20260423T003353
CREATED:20260401T120849Z
LAST-MODIFIED:20260401T122712Z
UID:17345-1778241600-1778245200@www.hbbtv.org
SUMMARY:HbbTV Symposium Unconference 2025: Follow-Up Webinar
DESCRIPTION:This HbbTV webinar will review developments since the unconference sessions at the HbbTV Symposium 2025 in Istanbul and highlight progress\, challenges\, and next steps. Moderated by Jörn Krieger and Eoghan O’Sullivan\, the webinar will feature short updates from all session chairs\, each providing an overview of activities\, achievements and ongoing work. The webinar concludes with a joint audience Q&A. \nDate: Friday\, 8 May 2026\nTime: 12:00-13:00 CEST (11:00-12:00 BST) \nAgenda \nWelcome & Introduction\nModerators: Jörn Krieger\, Eoghan O’Sullivan \nUpdates from Unconference Session Hosts (3-4 min each) \n\nAI for Smarter TVs: Rafael Bermudez (3Cat)\, Bram Tullemans (EBU)\nApplication Discovery: William Cooper (Service List Registry)\nDRM Conformance: Krzysztof Lis (Resillion)\nGamified User Experiences in Addressable TV: Aylen Alonso Montero (TVekstra)\nHbbTV for All IP: Bram Tullemans (EBU)\nProvenance & Authenticity: Naomi Schoppa (Fraunhofer FOKUS)\nSign Language Experience: Rafael Bermúdez (3Cat)\nSustainable Streaming: Amelie Jakob (ZDF)\nTaCA & All IP Test Suite: Alex Russell (Everyone TV)\, Ranjeet Kaur (DTG)\nTesting & Coordination (CTA WAVE\, HbbTV\, DVB): Louay Bassbouss (Fraunhofer FOKUS)\, Juha Joki (Sofia Digital)\nTV Shopping with HbbTV: Moritz Wuttke (Konodrac)\n\nAudience Q&A (15 min)\nAll session hosts \nClosing Remarks \nRegistration: https://register.gotowebinar.com/register/8312844922072431190
URL:https://www.hbbtv.org/event/hbbtv-symposium-unconference-2025-follow-up-webinar/
CATEGORIES:Webinar
ATTACH;FMTTYPE=image/png:https://www.hbbtv.org/wp-content/uploads/2025/10/HbbTV_Webinar_logo.png
END:VEVENT
END:VCALENDAR