BEGIN:VCALENDAR
VERSION:2.0
PRODID:-//HbbTV - ECPv6.15.20//NONSGML v1.0//EN
CALSCALE:GREGORIAN
METHOD:PUBLISH
X-ORIGINAL-URL:https://www.hbbtv.org
X-WR-CALDESC:Events for HbbTV
REFRESH-INTERVAL;VALUE=DURATION:PT1H
X-Robots-Tag:noindex
X-PUBLISHED-TTL:PT1H
BEGIN:VTIMEZONE
TZID:Europe/Berlin
BEGIN:DAYLIGHT
TZOFFSETFROM:+0100
TZOFFSETTO:+0200
TZNAME:CEST
DTSTART:20240331T010000
END:DAYLIGHT
BEGIN:STANDARD
TZOFFSETFROM:+0200
TZOFFSETTO:+0100
TZNAME:CET
DTSTART:20241027T010000
END:STANDARD
BEGIN:DAYLIGHT
TZOFFSETFROM:+0100
TZOFFSETTO:+0200
TZNAME:CEST
DTSTART:20250330T010000
END:DAYLIGHT
BEGIN:STANDARD
TZOFFSETFROM:+0200
TZOFFSETTO:+0100
TZNAME:CET
DTSTART:20251026T010000
END:STANDARD
BEGIN:DAYLIGHT
TZOFFSETFROM:+0100
TZOFFSETTO:+0200
TZNAME:CEST
DTSTART:20260329T010000
END:DAYLIGHT
BEGIN:STANDARD
TZOFFSETFROM:+0200
TZOFFSETTO:+0100
TZNAME:CET
DTSTART:20261025T010000
END:STANDARD
END:VTIMEZONE
BEGIN:VEVENT
DTSTART;VALUE=DATE:20251006
DTEND;VALUE=DATE:20251011
DTSTAMP:20260420T083844
CREATED:20250630T075627Z
LAST-MODIFIED:20250630T083159Z
UID:15943-1759708800-1760140799@www.hbbtv.org
SUMMARY:DTVP/DTG Plugfest 2025 & HbbTV Testing Event in Berlin
DESCRIPTION:Deutsche TV-Plattform (DTVP) is continuing its successful Plugfest series in cooperation with Digital TV Group (DTG) UK and the HbbTV Association in 2025. We would like to invite you to the 16th edition\, which will take place from 6 to 8 October in Berlin at Fraunhofer FOKUS. Following the Plugfest\, an HbbTV Testing Event of the HbbTV Association will take place at the same venue (8-10 October)\, to which we also invite you on behalf of the HbbTV Association. \nThe test focus of our Plugfest this time is again on HbbTV\, streaming\, immersive audio and DVB-I\, as well as traditionally on UHD-HDR tests (HDMI®). As always\, it is aimed at device manufacturers\, broadcasters\, technology providers\, platform operators\, research and development institutions and standardisation bodies. \nPlease note that participation in all events requires prior registration\, and participation in the Plugfest requires signing our participant agreement\, which guarantees strict confidentiality. In this context\, we would like to point out that the HbbTV-related results of the Plugfest might be shared anonymously with the HbbTV Association. \nThe schedule of the events is planned as follows: \n \n* DTVP/DTG/HbbTV members: free of charge\, Non-members: participant fee\n** HbbTV members only\, no fee\n*** HbbTV Testing Group members only \nPlease register for participation in one or both parts of the event through the short web form at https://tv-plattform.de/plugfest. There you will find the documents required for binding registration available for download: a detailed registration form and a participant agreement for the Plugfest. Due to the international nature of the event\, all information and documents are provided in English. Please note that participation requires active involvement in the event; a purely observer role is not possible. \nPlease be aware of our deadlines:\nBoth the registration form and participant agreement must be submitted via email to the office at plugfest@tv-plattform.de by 5 September 2025. The participant agreement must be submitted with the digital signature of a duly authorised representative of the participating organisation. \nAlternatively\, the hand-signed agreement can be sent by post. In that case\, please send the documents in advance via email to plugfest@tv-plattform.de. \nWe will successively publish further details about the event on the Plugfest website as soon as they are available. \nParticipation in the Plugfest is open to members of the organisers (Deutsche TV-Plattform\, DTG UK or HbbTV Association) as well as companies outside these organisations – subject to a participation fee. \nFor content-related questions about the DTVP/DTG-Plugfest\, please contact our Plugfest team: plugfest@tv-plattform.de \nFor content-related questions about the HbbTV Testing Event\, please contact Nguyen thi Thanh Van\, Samsung Electronics: van.nguyen@samsung.com \nWe look forward to another successful Plugfest and to your registration and particularly thank our partner Fraunhofer FOKUS for the renewed cooperation!
URL:https://www.hbbtv.org/event/dtvp-dtg-plugfest-2025-hbbtv-testing-event-in-berlin/
LOCATION:Fraunhofer FOKUS\, Kaiserin-Augusta-Allee 31\, Berlin\, 10589\, Germany
CATEGORIES:Plugfest
ATTACH;FMTTYPE=image/jpeg:https://www.hbbtv.org/wp-content/uploads/2024/11/Plugfest-logo-DTG-DTVP-wide-year.jpg
ORGANIZER;CN="Deutsche TV-Plattform":MAILTO:plugfest@tv-plattform.de
END:VEVENT
BEGIN:VEVENT
DTSTART;TZID=Europe/Berlin:20251015T100000
DTEND;TZID=Europe/Berlin:20251015T110000
DTSTAMP:20260420T083844
CREATED:20251006T115023Z
LAST-MODIFIED:20251015T143514Z
UID:16563-1760522400-1760526000@www.hbbtv.org
SUMMARY:Webinar: HbbTV in MENA – Unlocking New Opportunities for Addressable Advertising and Monetisation
DESCRIPTION:The MENA region is rapidly evolving for connected TV and streaming. Rising smart TV adoption and HbbTV-based solutions are creating new ways for broadcasters\, device makers\, and adtech companies to engage viewers and monetise content. \nThis webinar explores the latest market dynamics and opportunities ahead of the HbbTV Symposium and Awards 2025 on 12-13 November in Istanbul\, co-hosted with TVekstra. \nAgenda \nThe Rise of (C)TV by Tech against Walled Gardens\nSpeaker: Cem Eroğlu\, VP Turkey & MEA & Central Asia\, Adform\nCem Eroğlu will discuss how connected TV is reshaping MENA’s media landscape and how HbbTV enables open\, data-driven ecosystems beyond walled gardens. \nNext-Generation Monetisation in HbbTV & Connected TV\nSpeaker: Tuna Gürel\, Chief Revenue Officer\, TVekstra\nTuna Gürel will highlight innovative monetisation strategies using HbbTV\, including targeted ads\, audience measurement\, and interactive experiences\, with examples from MENA. \nSmart TV and HbbTV Developments in the MENA Market\nSpeaker: Atinç Ögüt\, Deputy General Manager / Consumer Electronics Product Management\, Vestel\nAtinç Ögüt will provide a manufacturer’s perspective on smart TV growth and HbbTV expansion that boosts viewer engagement and broadcaster relations. \nHbbTV Services and Solutions in MENA\nSpeaker: Ralph Edeine\, Head of Engineering and Technical Solutions\, Eutelsat\nRalph Edeine will present Eutelsat’s initiatives in the MENA region\, focusing on HbbTV-based services and technical solutions supporting broadcasters and service providers. \nQ&A with all speakers\nModerator: Jörn Krieger\, Journalist \nReplay \nThe recording of the live session is available here. \nPDF presentation downloads\nCem Eroğlu (Adform)\nTuna Gürel (TVekstra)\nAtinç Ögüt (Vestel)\nRalph Edeine (Eutelsat)
URL:https://www.hbbtv.org/event/webinar-hbbtv-in-mena-unlocking-new-opportunities-for-addressable-advertising-and-monetisation/
CATEGORIES:Webinar
ATTACH;FMTTYPE=image/jpeg:https://www.hbbtv.org/wp-content/uploads/2025/10/Screenshot.jpg
END:VEVENT
BEGIN:VEVENT
DTSTART;TZID=Europe/Berlin:20251028T120000
DTEND;TZID=Europe/Berlin:20251028T123000
DTSTAMP:20260420T083844
CREATED:20251027T084916Z
LAST-MODIFIED:20251106T114745Z
UID:16712-1761652800-1761654600@www.hbbtv.org
SUMMARY:HbbTV Symposium Live Premiere
DESCRIPTION:The first preview show of the HbbTV Symposium and Awards 2025 provides an update on our annual key event with exclusive insights on what will be shown and discussed in Istanbul. HbbTV Symposium Live Premiere takes place on Tuesday\, 28 October\, 12:00-12:30 CET. \nAgenda \nWelcome introduction\nJörn Krieger\, Moderator \n2025 Symposium & Awards in Istanbul\nAylen Alonso\, TVEkstra \nRoundtable\nAtila Madakbas\, Admongrel\nEmanuele Giardina\, tivù\nJan Frelek\, Backscreen\nThomas Schierbaum\, bmt \n2025 Symposium & Awards in Istanbul\nAngelo Pettazzi\, HbbTV Association \nClosing remarks\nJörn Krieger and speakers \nReplay\nWatch the recording on YouTube at https://www.youtube.com/watch?v=1GpRKlHj8l8.
URL:https://www.hbbtv.org/event/hbbtv-symposium-live-premiere-2025/
CATEGORIES:Webinar
ATTACH;FMTTYPE=image/png:https://www.hbbtv.org/wp-content/uploads/2025/10/HbbTV-October-28th-2025.png
END:VEVENT
BEGIN:VEVENT
DTSTART;TZID=Europe/Berlin:20251029T150000
DTEND;TZID=Europe/Berlin:20251029T160000
DTSTAMP:20260420T083844
CREATED:20251016T124227Z
LAST-MODIFIED:20251105T134041Z
UID:16684-1761750000-1761753600@www.hbbtv.org
SUMMARY:Webinar: Inside HbbTV DRM: Standards\, Market Insights and Real-World Deployments
DESCRIPTION:Digital Rights Management (DRM) is a key component in delivering premium content securely across connected TV environments. With the growing deployment of HbbTV services and hybrid applications\, broadcasters\, platform operators and device manufacturers are increasingly focusing on standardised DRM solutions to ensure interoperability\, reliability and a seamless viewer experience. \nThis HbbTV webinar offers an overview of the technical foundations and current status of DRM within the HbbTV ecosystem. Industry experts will share insights into guidelines\, deployment practices and real-world use cases\, providing valuable perspectives for broadcasters\, manufacturers and technology providers. \nAgenda \nHbbTV DRM Guidelines and Standardisation\nSpeaker: Jon Piesing\, Vice-Chairman\, HbbTV Association & Chairman\, HbbTV Specification Group\nJon outlines the latest HbbTV DRM guidelines\, explaining how standardised approaches ensure compatibility across devices and services\, and highlight upcoming developments. \nDRM from the Conditional Access and Security Provider Perspective\nSpeaker: Thierry Thévoz\, Principal Software Architect\, Nagravision\nThierry presents the viewpoint of a leading CA and security solutions provider\, exploring DRM-CA integration\, deployment challenges and the need for robust content protection in hybrid TV environments. \nThe Italian Perspective: Implementing DRM in Broadcaster Environments\nSpeaker: Fabio Guarnaccia\, Competitive Scenario Analysis Manager – Strategic Marketing\, Mediaset\nFabio shares insights from the Italian market\, where broadcasters are introducing DRM to protect and monetise premium content\, with lessons from real-world implementation. \nMarket Reality: Insights from the DASH-DRM Reference Application\nSpeaker: Juha Joki\, Technical Director\, Sofia Digital\nJuha presents findings from the DASH-DRM Reference Application\, offering practical observations on DRM performance in real deployments and market readiness. \nQ&A session with all speakers \nModerator: Jörn Krieger\, Journalist \nReplay\nThe recording of the live session is available here. \nPDF presentation downloads\nJon Piesing (HbbTV Association)\nThierry Thévoz (Nagravision)\nFabio Guarnaccia (Mediaset)\nJuha Joki (Sofia Digital)
URL:https://www.hbbtv.org/event/inside-hbbtv-drm-standards-market-insights-and-real-world-deployments/
CATEGORIES:Webinar
ATTACH;FMTTYPE=image/jpeg:https://www.hbbtv.org/wp-content/uploads/2025/10/Screenshot-1.jpg
END:VEVENT
END:VCALENDAR