BEGIN:VCALENDAR
VERSION:2.0
PRODID:-//HbbTV - ECPv6.15.20//NONSGML v1.0//EN
CALSCALE:GREGORIAN
METHOD:PUBLISH
X-WR-CALNAME:HbbTV
X-ORIGINAL-URL:https://www.hbbtv.org
X-WR-CALDESC:Events for HbbTV
REFRESH-INTERVAL;VALUE=DURATION:PT1H
X-Robots-Tag:noindex
X-PUBLISHED-TTL:PT1H
BEGIN:VTIMEZONE
TZID:Europe/London
BEGIN:DAYLIGHT
TZOFFSETFROM:+0000
TZOFFSETTO:+0100
TZNAME:BST
DTSTART:20230326T010000
END:DAYLIGHT
BEGIN:STANDARD
TZOFFSETFROM:+0100
TZOFFSETTO:+0000
TZNAME:GMT
DTSTART:20231029T010000
END:STANDARD
BEGIN:DAYLIGHT
TZOFFSETFROM:+0000
TZOFFSETTO:+0100
TZNAME:BST
DTSTART:20240331T010000
END:DAYLIGHT
BEGIN:STANDARD
TZOFFSETFROM:+0100
TZOFFSETTO:+0000
TZNAME:GMT
DTSTART:20241027T010000
END:STANDARD
BEGIN:DAYLIGHT
TZOFFSETFROM:+0000
TZOFFSETTO:+0100
TZNAME:BST
DTSTART:20250330T010000
END:DAYLIGHT
BEGIN:STANDARD
TZOFFSETFROM:+0100
TZOFFSETTO:+0000
TZNAME:GMT
DTSTART:20251026T010000
END:STANDARD
END:VTIMEZONE
BEGIN:VEVENT
DTSTART;VALUE=DATE:20240226
DTEND;VALUE=DATE:20240302
DTSTAMP:20260421T130037
CREATED:20240124T192536Z
LAST-MODIFIED:20240124T195309Z
UID:13504-1708905600-1709337599@www.hbbtv.org
SUMMARY:DTG & DTVP International Plugfest 2024
DESCRIPTION:The Digital TV Group (DTG) and Deutsche TV-Plattform (DTVP) are delighted to announce their joint International Plugfest 2024 in cooperation with the HbbTV Association. This week-long event will include the HbbTV Testing event. \nThe 14th edition of the Plugfest will take place from Monday\, February 26\, to Wednesday\, February 28\, at the DTG offices in London\, UK. From February 28 to Friday\, March 1\, the DTG and DTVP will be hosting the HbbTV Testing Event and Testing Group meeting. \nThe established joint Plugfests provide a fantastic\, controlled platform for all participants to collaborate towards achieving interoperability and delivering an excellent user experience. \nInteroperability tests cover cutting-edge technologies such as UHD-4K/8K\, HDR\, HFR\, NGA\, HbbTV\, DVB-I and HDMI (2.0/2.1a/2.1b) interoperability with sources (STBs/streaming devices\, Sound bars\, AVRs\, laptops\, encoders) and sinks (TVs\, Projectors\, Display Monitors etc). \nThe Plugfest is open to all companies interested in testing/validating their AV products/software/content/apps interoperability & compatibility with others’ implementations. Participants include TV device manufacturers\, broadcasters\, technology providers\, platform operators\, encoder providers\, test equipment manufacturers\, research & development institutions\, standardisation bodies as well as HbbTV app\, HbbTV OpApp and DVB-I client developers. \nDate: February 26-28\, 2024 \nVenue: DTG\, 5th Floor\, 89 Albert Embankment\, London SE1 7TP\, UK \nWho: Free for all DTG\, DTVP & HbbTV members. Nominal fee applicable for non-members. Attendance is strictly restricted to participants only. \nThis Plugfest forms part of a week-long series of events\, which also includes the HbbTV Testing Event\, focusing only on the HbbTV Test Suite v2024-1 validation\, and HbbTV Testing Group meeting from February 28 to March 1. The Testing Event is open to HbbTV members only. \nIt provides an opportunity for the HbbTV implementers to execute tests on their devices and log those executions as part of the evidence required to approve test cases for the HbbTV Test Suite v2024-1 release. The representatives of test material providers will be available to discuss problems found with either the test material or implementation. The Testing Event participants will have temporary access to the test harness\, necessary for executing the test cases at the event. The test plan will be distributed to the event participants a day before. Participants should be TRAA assignees to have access to the HbbTV Test Repository. \nEvent details: \n \nRegistrations for the DTG/DTVP Plugfest are now open. Please register here. \nFor logistics please contact Stella Molloy smolloy@dtg.org.uk \nFor content-related questions about the Plugfest\, please contact Ranjeet Kaur rkaur@dtg.org.uk \nFor content-related questions about the HbbTV Testing Event or face-to-face meeting\, please contact Nguyen thi Thanh Van\, Samsung Electronics: van.nguyen@samsung.com
URL:https://www.hbbtv.org/event/dtg-dtvp-international-plugfest-2024/
LOCATION:DTG\, Fifth Floor\, 89 Albert Embankment\, Vauxhall\, London\, SE1 7TP\, United Kingdom
CATEGORIES:Plugfest
ATTACH;FMTTYPE=image/jpeg:https://www.hbbtv.org/wp-content/uploads/2024/01/DTG-Plugfest-details-2024.jpg
END:VEVENT
END:VCALENDAR